BEGIN:VCALENDAR
VERSION:2.0
PRODID:-//Atus Köflach Turnen - ECPv6.15.20//NONSGML v1.0//EN
CALSCALE:GREGORIAN
METHOD:PUBLISH
X-ORIGINAL-URL:https://www.atus-koeflach.at/2019
X-WR-CALDESC:Veranstaltungen für Atus Köflach Turnen
REFRESH-INTERVAL;VALUE=DURATION:PT1H
X-Robots-Tag:noindex
X-PUBLISHED-TTL:PT1H
BEGIN:VTIMEZONE
TZID:Europe/Vienna
BEGIN:DAYLIGHT
TZOFFSETFROM:+0100
TZOFFSETTO:+0200
TZNAME:CEST
DTSTART:20240331T010000
END:DAYLIGHT
BEGIN:STANDARD
TZOFFSETFROM:+0200
TZOFFSETTO:+0100
TZNAME:CET
DTSTART:20241027T010000
END:STANDARD
BEGIN:DAYLIGHT
TZOFFSETFROM:+0100
TZOFFSETTO:+0200
TZNAME:CEST
DTSTART:20250330T010000
END:DAYLIGHT
BEGIN:STANDARD
TZOFFSETFROM:+0200
TZOFFSETTO:+0100
TZNAME:CET
DTSTART:20251026T010000
END:STANDARD
BEGIN:DAYLIGHT
TZOFFSETFROM:+0100
TZOFFSETTO:+0200
TZNAME:CEST
DTSTART:20260329T010000
END:DAYLIGHT
BEGIN:STANDARD
TZOFFSETFROM:+0200
TZOFFSETTO:+0100
TZNAME:CET
DTSTART:20261025T010000
END:STANDARD
END:VTIMEZONE
BEGIN:VEVENT
DTSTART;VALUE=DATE:20250611
DTEND;VALUE=DATE:20250828
DTSTAMP:20260422T141043
CREATED:20250611T103753Z
LAST-MODIFIED:20250612T103031Z
UID:3090-1749600000-1756339199@www.atus-koeflach.at
SUMMARY:BEWEGT IM PARK - Nordic Walking -Jeden Mittwoch von 18:30 bis 19:30
DESCRIPTION:Die Walkingrunden finden bei jedem Wetter statt und sind kostenlos. Es ist keine Anmeldung erforderlich\, einfach kommen und mitmachen.\nUnsere Walkingrunden sind für jeden machbar\, da es wieder 2 Gruppen gibt.\nKursdauer:\n11.Juni 2025/ 12 Einheiten \nKurstag & Kurszeit:\nJeden Mittwoch von 18:30 bis 19:30/ 1 Stunde \nKursort/Treffpunkt:\nThermenteich\,  An der Quelle 3\, 8580 Köflach\, Österreich \nDie Teilnahme ist kostenlos. \n  
URL:https://www.atus-koeflach.at/2019/event/bewegt-im-park-jeden-dienstag-von-1830-bis-1930/
CATEGORIES:Training,Veranstalltung
ATTACH;FMTTYPE=image/jpeg:https://www.atus-koeflach.at/2019/wp-content/uploads/2021/05/2af09459-7926-431f-a505-9359eaf8c163.jpg
END:VEVENT
END:VCALENDAR