BEGIN:VCALENDAR
VERSION:2.0
PRODID:-//Atus Köflach Turnen - ECPv6.15.20//NONSGML v1.0//EN
CALSCALE:GREGORIAN
METHOD:PUBLISH
X-ORIGINAL-URL:https://www.atus-koeflach.at/2019
X-WR-CALDESC:Veranstaltungen für Atus Köflach Turnen
REFRESH-INTERVAL;VALUE=DURATION:PT1H
X-Robots-Tag:noindex
X-PUBLISHED-TTL:PT1H
BEGIN:VTIMEZONE
TZID:Europe/Vienna
BEGIN:DAYLIGHT
TZOFFSETFROM:+0100
TZOFFSETTO:+0200
TZNAME:CEST
DTSTART:20240331T010000
END:DAYLIGHT
BEGIN:STANDARD
TZOFFSETFROM:+0200
TZOFFSETTO:+0100
TZNAME:CET
DTSTART:20241027T010000
END:STANDARD
BEGIN:DAYLIGHT
TZOFFSETFROM:+0100
TZOFFSETTO:+0200
TZNAME:CEST
DTSTART:20250330T010000
END:DAYLIGHT
BEGIN:STANDARD
TZOFFSETFROM:+0200
TZOFFSETTO:+0100
TZNAME:CET
DTSTART:20251026T010000
END:STANDARD
BEGIN:DAYLIGHT
TZOFFSETFROM:+0100
TZOFFSETTO:+0200
TZNAME:CEST
DTSTART:20260329T010000
END:DAYLIGHT
BEGIN:STANDARD
TZOFFSETFROM:+0200
TZOFFSETTO:+0100
TZNAME:CET
DTSTART:20261025T010000
END:STANDARD
END:VTIMEZONE
BEGIN:VEVENT
DTSTART;VALUE=DATE:20250531
DTEND;VALUE=DATE:20250602
DTSTAMP:20260422T091621
CREATED:20250420T060407Z
LAST-MODIFIED:20250420T062628Z
UID:4047-1748649600-1748822399@www.atus-koeflach.at
SUMMARY:Kärntner Landesmeisterschaft - Kunstturnen
DESCRIPTION:
URL:https://www.atus-koeflach.at/2019/event/kaerntner-landesmeisterschaft-kunstturnen/
LOCATION:Klagenfurt
CATEGORIES:Meisterschaft
ATTACH;FMTTYPE=image/jpeg:https://www.atus-koeflach.at/2019/wp-content/uploads/2025/04/c6899098-61f5-4f69-8404-59818623ed60.jpg
END:VEVENT
END:VCALENDAR