BEGIN:VCALENDAR
VERSION:2.0
PRODID:-//Atus Köflach Turnen - ECPv6.15.20//NONSGML v1.0//EN
CALSCALE:GREGORIAN
METHOD:PUBLISH
X-ORIGINAL-URL:https://www.atus-koeflach.at/2019
X-WR-CALDESC:Veranstaltungen für Atus Köflach Turnen
REFRESH-INTERVAL;VALUE=DURATION:PT1H
X-Robots-Tag:noindex
X-PUBLISHED-TTL:PT1H
BEGIN:VTIMEZONE
TZID:Europe/Vienna
BEGIN:DAYLIGHT
TZOFFSETFROM:+0100
TZOFFSETTO:+0200
TZNAME:CEST
DTSTART:20220327T010000
END:DAYLIGHT
BEGIN:STANDARD
TZOFFSETFROM:+0200
TZOFFSETTO:+0100
TZNAME:CET
DTSTART:20221030T010000
END:STANDARD
BEGIN:DAYLIGHT
TZOFFSETFROM:+0100
TZOFFSETTO:+0200
TZNAME:CEST
DTSTART:20230326T010000
END:DAYLIGHT
BEGIN:STANDARD
TZOFFSETFROM:+0200
TZOFFSETTO:+0100
TZNAME:CET
DTSTART:20231029T010000
END:STANDARD
BEGIN:DAYLIGHT
TZOFFSETFROM:+0100
TZOFFSETTO:+0200
TZNAME:CEST
DTSTART:20240331T010000
END:DAYLIGHT
BEGIN:STANDARD
TZOFFSETFROM:+0200
TZOFFSETTO:+0100
TZNAME:CET
DTSTART:20241027T010000
END:STANDARD
END:VTIMEZONE
BEGIN:VEVENT
DTSTART;VALUE=DATE:20231125
DTEND;VALUE=DATE:20231126
DTSTAMP:20260421T183159
CREATED:20230914T075446Z
LAST-MODIFIED:20230914T081412Z
UID:3505-1700870400-1700956799@www.atus-koeflach.at
SUMMARY:Turn10 - Grundlagen Kunstturnen Herbstmeisterschaft
DESCRIPTION:
URL:https://www.atus-koeflach.at/2019/event/turn10-grundlagen-kunstturnen-herbstmeisterschaft/
LOCATION:VGT Graz
CATEGORIES:Meisterschaft
END:VEVENT
END:VCALENDAR