BEGIN:VCALENDAR
VERSION:2.0
PRODID:-//Atus Köflach Turnen - ECPv6.15.20//NONSGML v1.0//EN
CALSCALE:GREGORIAN
METHOD:PUBLISH
X-WR-CALNAME:Atus Köflach Turnen
X-ORIGINAL-URL:https://www.atus-koeflach.at/2019
X-WR-CALDESC:Veranstaltungen für Atus Köflach Turnen
REFRESH-INTERVAL;VALUE=DURATION:PT1H
X-Robots-Tag:noindex
X-PUBLISHED-TTL:PT1H
BEGIN:VTIMEZONE
TZID:Europe/Vienna
BEGIN:DAYLIGHT
TZOFFSETFROM:+0100
TZOFFSETTO:+0200
TZNAME:CEST
DTSTART:20220327T010000
END:DAYLIGHT
BEGIN:STANDARD
TZOFFSETFROM:+0200
TZOFFSETTO:+0100
TZNAME:CET
DTSTART:20221030T010000
END:STANDARD
BEGIN:DAYLIGHT
TZOFFSETFROM:+0100
TZOFFSETTO:+0200
TZNAME:CEST
DTSTART:20230326T010000
END:DAYLIGHT
BEGIN:STANDARD
TZOFFSETFROM:+0200
TZOFFSETTO:+0100
TZNAME:CET
DTSTART:20231029T010000
END:STANDARD
BEGIN:DAYLIGHT
TZOFFSETFROM:+0100
TZOFFSETTO:+0200
TZNAME:CEST
DTSTART:20240331T010000
END:DAYLIGHT
BEGIN:STANDARD
TZOFFSETFROM:+0200
TZOFFSETTO:+0100
TZNAME:CET
DTSTART:20241027T010000
END:STANDARD
END:VTIMEZONE
BEGIN:VEVENT
DTSTART;VALUE=DATE:20231021
DTEND;VALUE=DATE:20231022
DTSTAMP:20260421T163849
CREATED:20230914T075212Z
LAST-MODIFIED:20230914T081351Z
UID:3499-1697846400-1697932799@www.atus-koeflach.at
SUMMARY:ASKÖ Bundesmeisterschaft Kunstturnen
DESCRIPTION:
URL:https://www.atus-koeflach.at/2019/event/askoe-bundesmeisterschaft-kunstturnen/
LOCATION:Klagenfurt
CATEGORIES:ASKÖ Bundesmeisterschaft,Meisterschaft
END:VEVENT
END:VCALENDAR