BEGIN:VCALENDAR
VERSION:2.0
PRODID:-//Atus Köflach Turnen - ECPv6.15.20//NONSGML v1.0//EN
CALSCALE:GREGORIAN
METHOD:PUBLISH
X-ORIGINAL-URL:https://www.atus-koeflach.at/2019
X-WR-CALDESC:Veranstaltungen für Atus Köflach Turnen
REFRESH-INTERVAL;VALUE=DURATION:PT1H
X-Robots-Tag:noindex
X-PUBLISHED-TTL:PT1H
BEGIN:VTIMEZONE
TZID:Europe/Vienna
BEGIN:DAYLIGHT
TZOFFSETFROM:+0100
TZOFFSETTO:+0200
TZNAME:CEST
DTSTART:20210328T010000
END:DAYLIGHT
BEGIN:STANDARD
TZOFFSETFROM:+0200
TZOFFSETTO:+0100
TZNAME:CET
DTSTART:20211031T010000
END:STANDARD
BEGIN:DAYLIGHT
TZOFFSETFROM:+0100
TZOFFSETTO:+0200
TZNAME:CEST
DTSTART:20220327T010000
END:DAYLIGHT
BEGIN:STANDARD
TZOFFSETFROM:+0200
TZOFFSETTO:+0100
TZNAME:CET
DTSTART:20221030T010000
END:STANDARD
BEGIN:DAYLIGHT
TZOFFSETFROM:+0100
TZOFFSETTO:+0200
TZNAME:CEST
DTSTART:20230326T010000
END:DAYLIGHT
BEGIN:STANDARD
TZOFFSETFROM:+0200
TZOFFSETTO:+0100
TZNAME:CET
DTSTART:20231029T010000
END:STANDARD
END:VTIMEZONE
BEGIN:VEVENT
DTSTART;TZID=Europe/Vienna:20221210T160000
DTEND;TZID=Europe/Vienna:20221210T180000
DTSTAMP:20260421T033233
CREATED:20220807T183907Z
LAST-MODIFIED:20221128T173522Z
UID:3150-1670688000-1670695200@www.atus-koeflach.at
SUMMARY:Weihnachtsschauturnen „102 Jahre ATUS Köflach"
DESCRIPTION:
URL:https://www.atus-koeflach.at/2019/event/weihnachtsschauturnen-102-jahre-atus-koeflach/
LOCATION:Sporthalle Köflach\, Alter Rathauspl. 5\, Köflach\, 8580\, Österreich
CATEGORIES:Veranstalltung
ATTACH;FMTTYPE=image/jpeg:https://www.atus-koeflach.at/2019/wp-content/uploads/2022/08/aktuell-WH-Plakat-5-22-scaled.jpg
END:VEVENT
END:VCALENDAR