BEGIN:VCALENDAR
VERSION:2.0
PRODID:-//Atus Köflach Turnen - ECPv6.15.20//NONSGML v1.0//EN
CALSCALE:GREGORIAN
METHOD:PUBLISH
X-ORIGINAL-URL:https://www.atus-koeflach.at/2019
X-WR-CALDESC:Veranstaltungen für Atus Köflach Turnen
REFRESH-INTERVAL;VALUE=DURATION:PT1H
X-Robots-Tag:noindex
X-PUBLISHED-TTL:PT1H
BEGIN:VTIMEZONE
TZID:Europe/Paris
BEGIN:DAYLIGHT
TZOFFSETFROM:+0100
TZOFFSETTO:+0200
TZNAME:CEST
DTSTART:20210328T010000
END:DAYLIGHT
BEGIN:STANDARD
TZOFFSETFROM:+0200
TZOFFSETTO:+0100
TZNAME:CET
DTSTART:20211031T010000
END:STANDARD
BEGIN:DAYLIGHT
TZOFFSETFROM:+0100
TZOFFSETTO:+0200
TZNAME:CEST
DTSTART:20220327T010000
END:DAYLIGHT
BEGIN:STANDARD
TZOFFSETFROM:+0200
TZOFFSETTO:+0100
TZNAME:CET
DTSTART:20221030T010000
END:STANDARD
BEGIN:DAYLIGHT
TZOFFSETFROM:+0100
TZOFFSETTO:+0200
TZNAME:CEST
DTSTART:20230326T010000
END:DAYLIGHT
BEGIN:STANDARD
TZOFFSETFROM:+0200
TZOFFSETTO:+0100
TZNAME:CET
DTSTART:20231029T010000
END:STANDARD
END:VTIMEZONE
BEGIN:VEVENT
DTSTART;VALUE=DATE:20220528
DTEND;VALUE=DATE:20220529
DTSTAMP:20260421T002123
CREATED:20220303T104012Z
LAST-MODIFIED:20220306T131832Z
UID:3046-1653696000-1653782399@www.atus-koeflach.at
SUMMARY:ASKÖ Bundesmeisterschaften „Turn10“ in Mattersburg
DESCRIPTION:
URL:https://www.atus-koeflach.at/2019/event/askoe-bundesmeisterschaften-turn10/
LOCATION:Mattersburg\, Burgenland\, Österreich
CATEGORIES:ASKÖ Bundesmeisterschaft,Meisterschaft
END:VEVENT
END:VCALENDAR